BEGIN:VCALENDAR
VERSION:2.0
PRODID:-//RVK Veluwezoom - ECPv6.15.20//NONSGML v1.0//EN
CALSCALE:GREGORIAN
METHOD:PUBLISH
X-ORIGINAL-URL:https://rvk-veluwezoom.nl
X-WR-CALDESC:Evenementen voor RVK Veluwezoom
REFRESH-INTERVAL;VALUE=DURATION:PT1H
X-Robots-Tag:noindex
X-PUBLISHED-TTL:PT1H
BEGIN:VTIMEZONE
TZID:Europe/Amsterdam
BEGIN:DAYLIGHT
TZOFFSETFROM:+0100
TZOFFSETTO:+0200
TZNAME:CEST
DTSTART:20250330T010000
END:DAYLIGHT
BEGIN:STANDARD
TZOFFSETFROM:+0200
TZOFFSETTO:+0100
TZNAME:CET
DTSTART:20251026T010000
END:STANDARD
BEGIN:DAYLIGHT
TZOFFSETFROM:+0100
TZOFFSETTO:+0200
TZNAME:CEST
DTSTART:20260329T010000
END:DAYLIGHT
BEGIN:STANDARD
TZOFFSETFROM:+0200
TZOFFSETTO:+0100
TZNAME:CET
DTSTART:20261025T010000
END:STANDARD
BEGIN:DAYLIGHT
TZOFFSETFROM:+0100
TZOFFSETTO:+0200
TZNAME:CEST
DTSTART:20270328T010000
END:DAYLIGHT
BEGIN:STANDARD
TZOFFSETFROM:+0200
TZOFFSETTO:+0100
TZNAME:CET
DTSTART:20271031T010000
END:STANDARD
END:VTIMEZONE
BEGIN:VEVENT
DTSTART;TZID=Europe/Amsterdam:20260508T130000
DTEND;TZID=Europe/Amsterdam:20260508T173000
DTSTAMP:20260425T135310
CREATED:20260420T171302Z
LAST-MODIFIED:20260420T171302Z
UID:517-1778245200-1778261400@rvk-veluwezoom.nl
SUMMARY:Oecumenelezing 'Wees niet bang'
DESCRIPTION:Radicaalrechts gedachtegoed heeft zich de afgelopen jaren breed verspreid in de samenleving. Het vraagt van de kerken om een positiebepaling. De Vlaamse publicist Mark van de Voorde schreef Niet in onze naam\, een veelbesproken boek waarin hij oproept tot christelijke verzet tegen populisme en antidemocratie. Tijdens de Oecumenelezing van de Raad van Kerken in Nederland daagt hij ons denken uit. Cynthia Haaswijk\, van het platform ‘Challenge in faith’\, en Esther de Paauw\, bestuurslid van Op Goed Gerucht\, reageren. De lezing vindt plaats op 8 mei om 13.30 uur in de Geertekerk in Utrecht. \nDe Vlaamse journalist en publicist Mark van de Voorde schreef in 2025 het boek Niet in onze naam – oproep tot christelijk verzet tegen populisme en antidemocratie. Een boek dat veel stof deed opwaaien. In zijn lezing zal hij verder op dit thema ingaan. Waarom zwaaien populisten met de vlag van het christendom? Waarom moet de Kerk zich verzetten tegen die annexatie van haar geloof? Waarom is het onze christelijke plicht om de democratie te verdedigen?\nMark van de Voorde was woordvoerder van het bisdom Brugge en adviseur van diverse Belgische Christendemocratische politici. Hij publiceert in diverse media binnen en buiten de kerken. \nCynthia Haaswijk en Esther de Paauw zullen reageren op de lezing. Cynthia Haaswijk is theoloog en predikant in opleiding bij de Evangelische Broedergemeente (EBG). Ze is initiatiefnemer van het platform ‘Challenge in faith’. Esther de Paauw is predikant van de Protestantse gemeente Wassenaar en bestuurslid van Op Goed Gerucht. \nProgramma Oecumenelezing 2026 \n13.00 uur Ontvangst\n13.30 uur Welkom door voorzitter drs. Geert van Dartel\n13.40 uur Lezing door Mark van de Voorde\n14.25 uur Pauze\n14.55 uur Reacties van Cynthia Haaswijk en Esther de Paauw\nGesprek met Mark van de Voorde en de zaal o.l.v. Hillie van de Streek\, vice-voorzitter van de Raad van Kerken\n15.40 uur Liturgische afsluiting\n16.00 uur Receptie\n17.30 uur Einde Oecumenelezing \nAanmelden en betalen is mogelijk tot 6 mei via het online formulier. \nKosten (inclusief koffie\, thee en drankje) zijn € 20\,- per persoon (studenten € 15\,-).
URL:https://rvk-veluwezoom.nl/agenda/oecumenelezing-wees-niet-bang/
LOCATION:Geertekerk Utrecht\, Geertekerkhof 23\, Utrecht\, Utrecht\, 3511 XC\, Netherlands
END:VEVENT
END:VCALENDAR